BEGIN:VCALENDAR
VERSION:2.0
PRODID:-//https://www.wildobst-und-garten.at/cms///NONSGML kigkonsult.se iCalcreator 2.10.15//
METHOD:PUBLISH
BEGIN:VEVENT
UID:20260420T170844CEST-3124xhJoV9@https://www.wildobst-und-garten.at/cms/
DTSTAMP:20260420T150844Z
DESCRIPTION:Schimpansen\, Berggorillas und eine unvergleichliche Vogelvielf
 alt lassen das Herz jedes Naturfreundes höherschlagen. Großartige Landscha
 ften wie die Murchinson Wasserfälle und klassische Safarihighlights wie Lö
 wen\, Elefanten und Giraffen aber auch die in weiten Bereichen noch tradit
 ionelle Lebensweise der Bevölkerung bilden dafür den exotischen Rahmen.\nV
 eranstalter: Obst. Wein. Garten Straden - Karl Lenz Vortragender: Wolfgang
  Bittermann https://www.wildobst-und-garten.at/cms/index.php/termine/event
 /28-uganda-afrikas-vielfalt-am-aequator
DTSTART:20261203T190000Z
DTEND:20261203T210000Z
LOCATION:Haus der Vulkane - Stainz bei Straden 85 (Stainz bei Straden\, Str
 aden\, Südoststeiermark\, Steiermark)
SUMMARY:Uganda - Afrikas Vielfalt am Äquator
URL:https://www.wildobst-und-garten.at/cms/index.php/termine/event/28-ugand
 a-afrikas-vielfalt-am-aequator
END:VEVENT
END:VCALENDAR
